Workbook

Sheet Frontend
D3: Prozessname: | E3: Anmeldung Curalit, Citrix
D5: Häufigkeit (Anzahl) | E5: 1
D7: Häufigkeit (Zyklen) | E7: Täglich
E8: =IF(E7="Täglich",E5*365,IF(E7="Wöchentlich",E5*52,IF(E7="Monatlich",E5*12,IF(E7="Jährlich",E5,0)))) -> 365
D9: Prozessvolumen (Dauer einmalige Durchführung) | E9: 3
E10: Minuten
E12: =IF(E10="Sekunden",E9/60,IF(E10="Minuten",E9,IF(E10="Stunden",E9*60,IF(E10="Tage",E9*24*60,0)))) -> 3
D13: Entgelt-/Besoldungsgruppe Sachbearbeiter (nach KGSt.): | E13: E10 | G13: Entgelt-/Besoldungsgruppe Modellierer (nach KGSt.): | H13: E11
D15: Vertragliche Regelarbeitszeit in Prozent: | E15: 100 | G15: Vertragliche Regelarbeitszeit in Prozent: | H15: 5
E16: 206 | H16: 206
D17: Vertragliche Wochen-Arbeitszeit in Stunden gerundet: | E17: =VLOOKUP(E15,'Personalkosten KGSt.'!A80:B99,2,FALSE) -> 39 | G17: Vertragliche Wochen-Arbeitszeit in Stunden gerundet: | H17: =VLOOKUP(H15,'Personalkosten KGSt.'!A80:B99,2,FALSE) -> 1.95
E18: =VLOOKUP(H15,'Personalkosten KGSt.'!D80:E99,2,FALSE) -> 0.05 | H18: =VLOOKUP(H15,'Personalkosten KGSt.'!D80:E99,2,FALSE) -> 0.05
D19: Personalkosten Fachbereich jährlich (100%): | E19: =VLOOKUP(E13,'Personalkosten KGSt.'!$A$10:$B$53,2,FALSE) -> 86900 | G19: Personalkosten Modellierer jährlich (100%): | H19: =VLOOKUP(H13,'Personalkosten KGSt.'!$A$10:$B$53,2,FALSE) -> 93300
D21: Sachkostenpauschale jährlich (KGSt.: 9.700 €): | E21: 9700 | G21: Sachkostenpauschale jährlich (KGSt.: 9.700 €): | H21: 9700
D23: Gemeinkosten jährlich (KGSt.: 20% der PK): | E23: =E19*0.2 -> 17380 | G23: Gemeinkosten jährlich (KGSt.: 20% der PK): | H23: =H19*0.2 -> 18660
D25: Personalgesamtkosten (PK, SK, GK) jährlich: | E25: =(E19+E21+E23)*E15/100 -> 113980 | G25: Personalgesamtkosten (PK, SK, GK) jährlich: | H25: =(H19+H21+H23)*H15/100 -> 6083
D27: Personalkosten Fachbereich pro Minute: | E27: =E25/(E17/5*60*(E16)) -> 1.182267 | G27: Personalkosten Modellierer pro Minute: | H27: =H25/(H17/5*60*(H16)) -> 1.2619285
E32: In Minuten | H32: In Minuten
D34: Prozessdauer Fachabteilung: | E34: =IF(AND(E9<>"",E10<>""),E12,VLOOKUP($E$3,Export!$A:$AL,38,FALSE)) -> 3 | G34: Prozessdauer Emma: | H34: =VLOOKUP($E$3,Export!$A:$AN,40,FALSE) -> 1
D36: Dauer der Modellierung mit EMMA: | E36: =VLOOKUP($E$3,Export!$A:$AM,39,FALSE) -> 150 | G36: Dauer Testphase (netto): | H36: =VLOOKUP($E$3,Export!$A:$AO,41,FALSE) -> 38
D38: Prozessaufnahme: | E38: =VLOOKUP($E$3,Export!$A:$AQ,43,FALSE) -> 30 | G38: Zeit Qualitätsicherung vor Übernahme in den Produktivbetrieb: | H38: =VLOOKUP($E$3,Export!$A:$AP,42,FALSE) -> 38
D40: Prozessmodellierung (Picture): | E40: =VLOOKUP($E$3,Export!$A:$AR,44,FALSE) -> 30
D44: Ergebnisse
D46: Fachabteilung | G46: Emma
D48: Gegenüberstellung Prozessdauer (Minuten) | E48: =H34-E34 -> -2 | G48: Gesamtaufwand der Automatisierung (Stunden) | H48: =(E38+E36+E40+H36+H38)/60 -> 4.7666667
D50: Laufende Gesamtaufwendungen Fachabteilung (Euro / Jahr) | E50: =E8*E34*E27 -> 1294.5824 | G50: Gesamtaufwendungen EMMA einmalig (Euro) | H50: =E38*E27+H36*E27+E36*H27+E40*H27+H38*H27 -> 355.49456
G52: Laufende anteilige Lizenzkosten EMMA (Euro / Jahr) | H52: =E8*H34*H54 -> 7.3
G54: Lizenzkosten (Euro / Minute) | H54: 0.02
G56: Anteil Lizenzkosten an Gesamtlizenzkosten (in %) | H56: =H52/10888.5*100 -> 0.067043211
D61: Einsparpotenzial: | H61: Maximalwert: 5
D63: Prozessaufwand (Stunden / Jahr) | E63: =E8*(-E48)/60 -> 12.166667 | G63: Tatsächliche Komplexität der Modellierung | H63: =VLOOKUP($E$3,Export!$A:$AF,32,FALSE) -> 1
D64: - bedeutet , dass EMMA für diesen Prozess länger benötigt als die Sachbearbeitenden
D65: Personalkosten (Euro / Jahr) | E65: =E50 -> 1294.5824 | G65: Voraussichtlicher Wartungsaufwand | H65: =VLOOKUP($E$3,Export!$A:$AG,33,FALSE) -> Gering
D67: Ab wie vielen Monaten nach Einführung lohnt sich die Automatisierung finanziell? | E67: =H50/((E50/12)-(H52/12)) -> 3.3139075

Sheet Export
A1: Prozessname | B1: Datei | C1: Prozessvolumen (Dauer einmalige Durchführung) (Zahl) | D1: Dauer Testphase (netto) in Minuten | E1: Zeit Qualitätssicherung vor Übernahme in den Produktivbetrieb in Minuten | F1: Entgelt-/Besoldungsgruppe Sachbearbeiter (nach KGSt.) | G1: Vertragliche Regelarbeitszeit Sachbearbeitung in Prozent | H1: Vertragliche Wochen-Arbeitszeit Sachbearbeitung in Stunden (gerundet) | I1: Personalkosten Fachbereich jährlich | J1: Sachkostenpauschale Fachbereich jährlich (KGSt. 9.700 €) | K1: Gemeinkosten Fachbereich jährlich (KGSt. 20% der PK) | L1: Personalgesamtkosten Fachbereich jährlich (PK+SK+GK) | M1: Personalkosten Fachbereich pro Minute | N1: Entgelt-/Besoldungsgruppe Modellierer (nach KGSt.) | O1: Vertragliche Regelarbeitszeit Modellierer in Prozent | P1: Vertragliche Wochen-Arbeitszeit Modellierer in Stunden (gerundet) | Q1: Personalkosten Modellierer jährlich | R1: Sachkostenpauschale Modellierer jährlich (KGSt. 9.700 €) | S1: Gemeinkosten Modellierer jährlich (KGSt. 20% der PK) | T1: Personalgesamtkosten Modellierer jährlich (PK+SK+GK) | U1: Personalkosten Modellierer pro Minute | V1: Gegenüberstellung Prozessdauer (Minuten) | W1: Laufende Gesamtaufwendungen Fachabteilung (Euro/Jahr) | X1: Gesamtaufwand der Automatisierung (Stunden) | Y1: Gesamtaufwendungen EMMA einmalig (Euro) | Z1: Laufende anteilige Lizenzkosten EMMA (Euro/Jahr) | AA1: Lizenzkosten (Euro/Minute) | AB1: Anteil Lizenzkosten an Gesamtlizenzkosten (in %) | AC1: Prozessaufwand (Stunden/Jahr) | AD1: Personalkosten (Euro/Jahr) | AE1: Ab wie vielen Monaten nach Einführung lohnt sich die Automatisierung finanziell? | AF1: Tatsaechliche Komplexitaet | AG1: Voraussichtlicher Wartungsaufwand | AH1: Haeufigkeit (Anzahl) | AI1: Haeufigkeit (Zyklen) | AJ1: Prozessvolumen (Dauer einmalige Durchfuehrung) | AK1: Prozessvolumen (Dauer einmalige Durchfuehrung)2 | AL1: Prozessdauer Fachabteilung | AM1: Dauer der Modellierung mit EMMA | AN1: Prozessdauer EMMA | AO1: Dauer Testphase (netto) | AP1: Zeit Qualitaetssicherung vor Uebernahme in den Produktivbetrieb | AQ1: Prozessaufnahme | AR1: Prozessmodellierung (Picture)
A2: Abmeldung von 2Charta | B2: 20251114_Steckbrief_Beschaffungsvorgänge-in-eAkte_Abmeldung-2Charta.xlsm | C2: 0.5 | D2: 97 | E2: 90 | F2: E10 | G2: 100 | H2: 37 | I2: 86900 | J2: 9700 | K2: 17380 | L2: 113980 | M2: 1.1884801 | N2: E11 | O2: 100 | P2: 37 | Q2: 93300 | R2: 9700 | S2: 18660 | T2: 121660 | U2: 1.2685602 | V2: 0 | W2: 216.89763 | X2: 7.6666667 | Y2: 503.72155 | Z2: 3.65 | AA2: 0.02 | AB2: 0.033521605 | AC2: 0 | AD2: 216.89763 | AE2: 28.345725 | AF2: 0.38461538 | AG2: Gering | AH2: 1 | AI2: Täglich | AJ2: 0.5 | AK2: Minuten | AL2: 0.5 | AM2: 222 | AN2: 0.5 | AO2: 97 | AP2: 90 | AQ2: 12 | AR2: 39
A3: Anmeldung an 2Charta | B3: 20251114_Steckbrief_Beschaffungsvorgänge-in-eAkte_Anmeldung-2Charta.xlsm | C3: 1 | D3: 97 | E3: 90 | F3: E10 | G3: 100 | H3: 38 | I3: 86900 | J3: 9700 | K3: 17380 | L3: 113980 | M3: 1.1572044 | N3: E11 | O3: 100 | P3: 37 | Q3: 93300 | R3: 9700 | S3: 18660 | T3: 121660 | U3: 1.2685602 | V3: 0 | W3: 422.37959 | X3: 7.6666667 | Y3: 500.6878 | Z3: 7.3 | AA3: 0.02 | AB3: 0.067043211 | AC3: 0 | AD3: 422.37959 | AE3: 14.474944 | AF3: 0.69230769 | AG3: Gering | AH3: 1 | AI3: Täglich | AJ3: 1 | AK3: Minuten | AL3: 1 | AM3: 222 | AN3: 1 | AO3: 97 | AP3: 90 | AQ3: 12 | AR3: 39
A4: Beschaffungsvorgänge in eAkte übertragen | B4: 20251114_Steckbrief_Beschaffungsvorgänge-in-eAkte_Übertragung-durchführen.xlsm | C4: 1 | D4: 772 | E4: 720 | F4: E10 | G4: 100 | H4: 37 | I4: 86900 | J4: 9700 | K4: 17380 | L4: 113980 | M4: 1.1884801 | N4: E11 | O4: 100 | P4: 37 | Q4: 93300 | R4: 9700 | S4: 18660 | T4: 121660 | U4: 1.2685602 | V4: 0 | W4: 1301.3858 | X4: 61.266667 | Y4: 4016.1386 | Z4: 21.9 | AA4: 0.02 | AB4: 0.20112963 | AC4: 0 | AD4: 1301.3858 | AE4: 37.666432 | AF4: 2.4615385 | AG4: Gering | AH4: 3 | AI4: Täglich | AJ4: 1 | AK4: Minuten | AL4: 1 | AM4: 1776 | AN4: 1 | AO4: 772 | AP4: 720 | AQ4: 96 | AR4: 312
A5: Nutzer in Infoma anlegen | B5: 20251114_Steckbrief_Infoma-Nutzer-anlegen.xlsm | C5: 1.5 | D5: 180 | E5: 12 | F5: E10 | G5: 100 | H5: 37 | I5: 86900 | J5: 9700 | K5: 17380 | L5: 113980 | M5: 1.1884801 | N5: E11 | O5: 100 | P5: 37 | Q5: 93300 | R5: 9700 | S5: 18660 | T5: 121660 | U5: 1.2685602 | V5: -0.5 | W5: 356.54404 | X5: 21.6 | Y5: 1334.4177 | Z5: 4.5 | AA5: 0.02 | AB5: 0.041328007 | AC5: 1.25 | AD5: 356.54404 | AE5: 45.485821 | AF5: 1.6923077 | AG5: Gering | AH5: 150 | AI5: Jährlich | AJ5: 2 | AK5: Minuten | AL5: 2 | AM5: 480 | AN5: 1.5 | AO5: 180 | AP5: 12 | AQ5: 384 | AR5: 240
A6: Anmeldung an Infoma | B6: 20251114_Steckbrief_Infoma-Nutzer-anlegen_Anmeldung.xlsm | C6: 1 | D6: 45 | E6: 3 | F6: E10 | G6: 100 | H6: 37 | I6: 86900 | J6: 9700 | K6: 17380 | L6: 113980 | M6: 1.1884801 | N6: E11 | O6: 100 | P6: 37 | Q6: 93300 | R6: 9700 | S6: 18660 | T6: 121660 | U6: 1.2685602 | V6: 0 | W6: 61.800968 | X6: 5.4 | Y6: 334.55585 | Z6: 1.04 | AA6: 0.02 | AB6: 0.0095513615 | AC6: 0 | AD6: 61.800968 | AE6: 66.073177 | AF6: 0.61538462 | AG6: Gering | AH6: 1 | AI6: Wöchentlich | AJ6: 1 | AK6: Minuten | AL6: 1 | AM6: 120 | AN6: 1 | AO6: 45 | AP6: 3 | AQ6: 96 | AR6: 60
A7: Schließereignisse Sportstätten auswerten | B7: 20251114_Steckbrief_Schließereignisse-auswerten_AirKey-Daten-Auswertung.xlsm | C7: 15 | D7: 1016 | E7: 288 | F7: E10 | G7: 100 | H7: 37 | I7: 86900 | J7: 9700 | K7: 17380 | L7: 113980 | M7: 1.1884801 | N7: E11 | O7: 100 | P7: 37 | Q7: 93300 | R7: 9700 | S7: 18660 | T7: 121660 | U7: 1.2685602 | V7: -35 | W7: 21689.763 | X7: 64.4 | Y7: 4134.1097 | Z7: 109.5 | AA7: 0.02 | AB7: 1.0056482 | AC7: 212.91667 | AD7: 21689.763 | AE7: 2.2988282 | AF7: 1.6153846 | AG7: Gering | AH7: 1 | AI7: Täglich | AJ7: 50 | AK7: Minuten | AL7: 50 | AM7: 1936 | AN7: 15 | AO7: 1016 | AP7: 288 | AQ7: 504 | AR7: 120
A8: Schließereignisse Sportstätten Download | B8: 20251114_Steckbrief_Schließereignisse-auswerten_AirKey-Daten-Download.xlsm | C8: 5 | D8: 254 | E8: 72 | F8: E10 | G8: 100 | H8: 37 | I8: 86900 | J8: 9700 | K8: 17380 | L8: 113980 | M8: 1.1884801 | N8: E11 | O8: 100 | P8: 37 | Q8: 93300 | R8: 9700 | S8: 18660 | T8: 121660 | U8: 1.2685602 | V8: -5 | W8: 4337.9525 | X8: 16.1 | Y8: 1034.4789 | Z8: 36.5 | AA8: 0.02 | AB8: 0.33521605 | AC8: 30.416667 | AD8: 4337.9525 | AE8: 2.8859429 | AF8: 1.4615385 | AG8: Gering | AH8: 1 | AI8: Täglich | AJ8: 10 | AK8: Minuten | AL8: 10 | AM8: 484 | AN8: 5 | AO8: 254 | AP8: 72 | AQ8: 126 | AR8: 30
A9: Abmeldung 2Charta LaDiVA | B9: 20251114_Steckbrief_Schreiben-Ablauf-eAT-und-Pass_Abmeldung-2Charta.xlsm | C9: 0.5 | D9: 38 | E9: 38 | F9: E10 | G9: 100 | H9: 37 | I9: 86900 | J9: 9700 | K9: 17380 | L9: 113980 | M9: 1.1884801 | N9: E11 | O9: 100 | P9: 37 | Q9: 93300 | R9: 9700 | S9: 18660 | T9: 121660 | U9: 1.2685602 | V9: 0 | W9: 216.89763 | X9: 4.7666667 | Y9: 304.63609 | Z9: 3.65 | AA9: 0.02 | AB9: 0.033521605 | AC9: 0 | AD9: 216.89763 | AE9: 17.142667 | AF9: 0.38461538 | AG9: Gering | AH9: 1 | AI9: Täglich | AJ9: 0.5 | AK9: Minuten | AL9: 0.5 | AM9: 150 | AN9: 0.5 | AO9: 38 | AP9: 38 | AQ9: 30 | AR9: 30
A10: Abmeldung KMA Citrix | B10: 20251114_Steckbrief_Schreiben-Ablauf-eAT-und-Pass_Abmeldung-KMA-Citrix.xlsm | C10: 0.5 | D10: 38 | E10: 38 | F10: E10 | G10: 100 | H10: 37 | I10: 86900 | J10: 9700 | K10: 17380 | L10: 113980 | M10: 1.1884801 | N10: E11 | O10: 100 | P10: 37 | Q10: 93300 | R10: 9700 | S10: 18660 | T10: 121660 | U10: 1.2685602 | V10: 0 | W10: 216.89763 | X10: 4.7666667 | Y10: 304.63609 | Z10: 3.65 | AA10: 0.02 | AB10: 0.033521605 | AC10: 0 | AD10: 216.89763 | AE10: 17.142667 | AF10: 0.38461538 | AG10: Gering | AH10: 1 | AI10: Täglich | AJ10: 0.5 | AK10: Minuten | AL10: 0.5 | AM10: 150 | AN10: 0.5 | AO10: 38 | AP10: 38 | AQ10: 30 | AR10: 30
A11: Anmeldung 2Charta LaDiVA | B11: 20251114_Steckbrief_Schreiben-Ablauf-eAT-und-Pass_Anmeldung-2Charta.xlsm | C11: 1 | D11: 38 | E11: 38 | F11: E10 | G11: 100 | H11: 37 | I11: 86900 | J11: 9700 | K11: 17380 | L11: 113980 | M11: 1.1884801 | N11: E11 | O11: 100 | P11: 37 | Q11: 93300 | R11: 9700 | S11: 18660 | T11: 121660 | U11: 1.2685602 | V11: 0 | W11: 433.79525 | X11: 4.7666667 | Y11: 304.63609 | Z11: 7.3 | AA11: 0.02 | AB11: 0.067043211 | AC11: 0 | AD11: 433.79525 | AE11: 8.5713337 | AF11: 0.69230769 | AG11: Gering | AH11: 1 | AI11: Täglich | AJ11: 1 | AK11: Minuten | AL11: 1 | AM11: 150 | AN11: 1 | AO11: 38 | AP11: 38 | AQ11: 30 | AR11: 30
A12: Anmeldung Curalit, Citrix | B12: 20251114_Steckbrief_Schreiben-Ablauf-eAT-und-Pass_Anmeldung-Curalit.xlsm | C12: 1 | D12: 38 | E12: 38 | F12: E10 | G12: 100 | H12: 37 | I12: 86900 | J12: 9700 | K12: 17380 | L12: 113980 | M12: 1.1884801 | N12: E11 | O12: 100 | P12: 37 | Q12: 93300 | R12: 9700 | S12: 18660 | T12: 121660 | U12: 1.2685602 | V12: 0 | W12: 433.79525 | X12: 4.7666667 | Y12: 304.63609 | Z12: 7.3 | AA12: 0.02 | AB12: 0.067043211 | AC12: 0 | AD12: 433.79525 | AE12: 8.5713337 | AF12: 1 | AG12: Gering | AH12: 1 | AI12: Täglich | AJ12: 1 | AK12: Minuten | AL12: 1 | AM12: 150 | AN12: 1 | AO12: 38 | AP12: 38 | AQ12: 30 | AR12: 30
A13: Anmeldung KM-Ausländer | B13: 20251114_Steckbrief_Schreiben-Ablauf-eAT-und-Pass_Anmeldung-KMA.xlsm | C13: 1 | D13: 38 | E13: 38 | F13: E10 | G13: 100 | H13: 39 | I13: 86900 | J13: 9700 | K13: 17380 | L13: 113980 | M13: 1.1275324 | N13: E11 | O13: 100 | P13: 39 | Q13: 93300 | R13: 9700 | S13: 18660 | T13: 121660 | U13: 1.2035059 | V13: 0 | W13: 411.54934 | X13: 4.7666667 | Y13: 299.78296 | Z13: 7.3 | AA13: 0.02 | AB13: 0.067043211 | AC13: 0 | AD13: 411.54934 | AE13: 8.8989521 | AF13: 1.9230769 | AG13: Gering | AH13: 1 | AI13: Täglich | AJ13: 1 | AK13: Minuten | AL13: 1 | AM13: 150 | AN13: 1 | AO13: 38 | AP13: 38 | AQ13: 30 | AR13: 30
... A45: Import Tesma - Strassenverkehrswesen | B45: TESMA_Strassenverkehrswesen.xlsm | C45: 25 | D45: 25 | E45: 25 | F45: E8 | G45: 100 | H45: 39 | I45: 66800 | J45: 9700 | K45: 13360 | L45: 89860 | M45: 0.88892846 | N45: E11 | O45: 100 | P45: 39 | Q45: 93300 | R45: 9700 | S45: 18660 | T45: 121660 | U45: 1.2035059 | V45: -70 | W45: 337.79281 | X45: 2.1666667 | Y45: 133.51436 | Z45: 2 | AA45: 0.02 | AB45: 0.018368003 | AC45: 4.6666667 | AD45: 337.79281 | AE45: 4.7713122 | AF45: 1.5384615 | AG45: Gering | AH45: 4 | AI45: Jährlich | AJ45: 25 | AK45: Minuten | AL45: 95 | AM45: 55 | AN45: 25 | AO45: 25 | AP45: 25 | AQ45: 5 | AR45: 20

Sheet Personalkosten KGSt.
A1: Sachkostenpauschale Büroarbeitsplatz Vollzeit/Teilzeit | B1: Gemeinkosten Zuschlag Vollzeit | C1: Gemeinkosten Zuschlag Teilzeit | D1: Normalarbeitszeit pro Woche - Vollzeit (Stunden) | E1: Normalarbeitszeit Allgemeine Verwaltung pro Jahr - Vollzeit (Stunden) | J1: Beschäftigte | L1: Beschäftigte | O1: Beamte
A2: KGSt, S. 10 | B2: KGSt, S. 11 | C2: KGSt, S. 14 | D2: KGSt, S. 13 | E2: KGSt, S. 13 | J2: KGSt, S. 9; 18f. | L2: KGSt, S. 9; 18f. | O2: KGSt, S. 8; 17
A3: 9700 | B3: Personalkosten Vollzeit * 0,2 | C3: Personalkosten Vollzeit * 0,2 | D3: 39 | E3: 1590 | J3: Bereich 4 | L3: Bereich 7 | O3: Bereich 7
D4: 40 | E4: 1631 | J4: Naturwissenschaft, Geografie & Informatik | L4: Unternehmensorganisation, Buchhaltung, Recht & Verwaltung | O4: Unternehmensorganisation, Buchhaltung, Recht & Verwaltung
D5: 41 | E5: 1671 | J5: Alle | K5: Informatikberufe | L5: Alle
D6: 42 | E6: 1712
A8: Für Berechnungen und Dropdowns verwendete Daten | I8: E2 | L8: 54100 | N8: A6 | O8: 62300
A9: Entgelt-/Besoldungsgruppe | B9: Unternehmensorganisation, Buchhaltung, Recht & Verwaltung | C9: Sachkostenpauschale | D9: Gemeinkostenzuschlag | E9: Personalkosten | F9: Regelarbeitszeit Prozent | G9: Wo.arbeitszeit Stunden | I9: E3 | L9: 56800 | N9: A7 | O9: 69500
A10: E2 | B10: 54100 | C10: 9700 | D10: =B10*0.2 -> 10820 | E10: =SUM(B10:D10) -> 74620 | F10: 5 | G10: 1 | I10: E4 | L10: 63700 | N10: A8 | O10: 79200
A11: E3 | B11: 56800 | C11: 9700 | D11: =B11*0.2 -> 11360 | E11: =SUM(B11:D11) -> 77860 | F11: 10 | G11: 2 | I11: E5 | L11: 64800 | N11: A9 m.D. | O11: 82900
A12: E4 | B12: 63700 | C12: 9700 | D12: =B12*0.2 -> 12740 | E12: =SUM(B12:D12) -> 86140 | F12: 15 | G12: 3 | I12: E6 | L12: 63600 | N12: A9 m.D. + Zulage | O12: 92300
A13: E5 | B13: 64800 | C13: 9700 | D13: =B13*0.2 -> 12960 | E13: =SUM(B13:D13) -> 87460 | F13: 20 | G13: 4 | I13: E7 | J13: 59500 | K13: 59500 | L13: 63700 | N13: A9 g.D. | O13: 68700
A14: E6 | B14: 63600 | C14: 9700 | D14: =B14*0.2 -> 12720 | E14: =SUM(B14:D14) -> 86020 | F14: 25 | G14: 5 | I14: E8 | J14: 65100 | K14: 63800 | L14: 66800 | N14: A10 | O14: 85700
A15: E7 | B15: 63700 | C15: 9700 | D15: =B15*0.2 -> 12740 | E15: =SUM(B15:D15) -> 86140 | F15: 30 | G15: 6 | I15: E9A | L15: 74300 | N15: A11 | O15: 97700
A16: E8 | B16: 66800 | C16: 9700 | D16: =B16*0.2 -> 13360 | E16: =SUM(B16:D16) -> 89860 | F16: 35 | G16: 7 | I16: E9B | J16: 84500 | K16: 84500 | L16: 79500 | N16: A12 | O16: 109000
A17: E9A | B17: 74300 | C17: 9700 | D17: =B17*0.2 -> 14860 | E17: =SUM(B17:D17) -> 98860 | F17: 40 | G17: 8 | I17: E9C | L17: 80300 | N17: A13 g.D. | O17: 123800
A18: E9B | B18: 79500 | C18: 9700 | D18: =B18*0.2 -> 15900 | E18: =SUM(B18:D18) -> 105100 | F18: 45 | G18: 9 | I18: E10 | J18: 84300 | K18: 86000 | L18: 86900 | N18: A13 h.D. | O18: 112200
A19: E9C | B19: 80300 | C19: 9700 | D19: =B19*0.2 -> 16060 | E19: =SUM(B19:D19) -> 106060 | F19: 50 | G19: 10 | I19: E11 | J19: 91700 | K19: 92700 | L19: 93300 | N19: A14 | O19: 130900
A20: E10 | B20: 86900 | C20: 9700 | D20: =B20*0.2 -> 17380 | E20: =SUM(B20:D20) -> 113980 | F20: 55 | G20: 11 | I20: E12 | J20: 109900 | K20: 111300 | L20: 102900 | N20: A15 | O20: 148800
A21: E11 | B21: 93300 | C21: 9700 | D21: =B21*0.2 -> 18660 | E21: =SUM(B21:D21) -> 121660 | F21: 60 | G21: 12 | I21: E13 | J21: 106000 | K21: 109500 | L21: 99000 | N21: A16 | O21: 169400
A22: E12 | B22: 102900 | C22: 9700 | D22: =B22*0.2 -> 20580 | E22: =SUM(B22:D22) -> 133180 | F22: 65 | G22: 13 | I22: E14 | J22: 112200 | L22: 109200 | N22: B2 | O22: 171600
A23: E13 | B23: 99000 | C23: 9700 | D23: =B23*0.2 -> 19800 | E23: =SUM(B23:D23) -> 128500 | F23: 70 | G23: 14 | I23: E15 | L23: 121300 | N23: B3 (Achtung! Kein Kosten-Betrag vorhanden!)
A24: E14 | B24: 109200 | C24: 9700 | D24: =B24*0.2 -> 21840 | E24: =SUM(B24:D24) -> 140740 | F24: 75 | G24: 15 | I24: E15UE (Achtung! Kein Kosten-Betrag vorhanden!) | N24: B7 (Achtung! Kein Kosten-Betrag vorhanden!)
A25: E15 | B25: 121300 | C25: 9700 | D25: =B25*0.2 -> 24260 | E25: =SUM(B25:D25) -> 155260 | F25: 80 | G25: 16 | I25: Ausbildung 1. Jahr | J25: 21000 | K25: 21000 | L25: 21000 | N25: B8 | O25: 231600
A26: E15UE (Achtung! Kein Kosten-Betrag vorhanden!) | F26: 85 | G26: 17 | I26: Ausbildung 2. Jahr | J26: 22700 | K26: 22700 | L26: 22700 | N26: B9 | O26: 240200
A27: Ausbildung 1. Jahr | B27: 21000 | C27: 9700 | D27: =B27*0.2 -> 4200 | E27: =SUM(B27:D27) -> 34900 | F27: 90 | G27: 18 | I27: Ausbildung 3. Jahr | J27: 23500 | K27: 23500 | L27: 23500 | N27: B11 | O27: 314100
A28: Ausbildung 2. Jahr | B28: 22700 | C28: 9700 | D28: =B28*0.2 -> 4540 | E28: =SUM(B28:D28) -> 36940 | F28: 95 | G28: 19 | I28: Ausbildung 4. Jahr | J28: 23500 | K28: 23500 | L28: 23500 | N28: Anwärter m.D. | O28: 20500
A29: Ausbildung 3. Jahr | B29: 23500 | C29: 9700 | D29: =B29*0.2 -> 4700 | E29: =SUM(B29:D29) -> 37900 | F29: 100 | G29: 20 | N29: Anwärter g.D. | O29: 21300
A30: Ausbildung 4. Jahr | B30: 23500 | C30: 9700 | D30: =B30*0.2 -> 4700 | E30: =SUM(B30:D30) -> 37900 | G30: 21 | N30: Anwärter h.D. (Achtung! Kein Kosten-Betrag vorhanden!)
A31: A6 | B31: 62300 | C31: 9700 | D31: =B31*0.2 -> 12460 | E31: =SUM(B31:D31) -> 84460 | G31: 22
A32: A7 | B32: 69500 | C32: 9700 | D32: =B32*0.2 -> 13900 | E32: =SUM(B32:D32) -> 93100 | G32: 23
A33: A8 | B33: 79200 | C33: 9700 | D33: =B33*0.2 -> 15840 | E33: =SUM(B33:D33) -> 104740 | G33: 24
A34: A9 m.D. | B34: 82900 | C34: 9700 | D34: =B34*0.2 -> 16580 | E34: =SUM(B34:D34) -> 109180 | G34: 25
A35: A9 m.D. + Zulage | B35: 92300 | C35: 9700 | D35: =B35*0.2 -> 18460 | E35: =SUM(B35:D35) -> 120460 | G35: 26
A36: A9 g.D. | B36: 68700 | C36: 9700 | D36: =B36*0.2 -> 13740 | E36: =SUM(B36:D36) -> 92140 | G36: 27
A37: A10 | B37: 85700 | C37: 9700 | D37: =B37*0.2 -> 17140 | E37: =SUM(B37:D37) -> 112540 | G37: 28
A38: A11 | B38: 97700 | C38: 9700 | D38: =B38*0.2 -> 19540 | E38: =SUM(B38:D38) -> 126940 | G38: 29
A39: A12 | B39: 109000 | C39: 9700 | D39: =B39*0.2 -> 21800 | E39: =SUM(B39:D39) -> 140500 | G39: 30
A40: A13 g.D. | B40: 123800 | C40: 9700 | D40: =B40*0.2 -> 24760 | E40: =SUM(B40:D40) -> 158260 | G40: 31
A41: A13 h.D. | B41: 112200 | C41: 9700 | D41: =B41*0.2 -> 22440 | E41: =SUM(B41:D41) -> 144340 | G41: 32
A42: A14 | B42: 130900 | C42: 9700 | D42: =B42*0.2 -> 26180 | E42: =SUM(B42:D42) -> 166780 | G42: 33
... A45: B2 | B45: 171600 | C45: 9700 | D45: =B45*0.2 -> 34320 | E45: =SUM(B45:D45) -> 215620 | G45: 36
A46: B3 (Achtung! Kein Kosten-Betrag vorhanden!) | G46: 37
A47: B7 (Achtung! Kein Kosten-Betrag vorhanden!) | G47: 38
A48: B8 | B48: 231600 | C48: 9700 | D48: =B48*0.2 -> 46320 | E48: =SUM(B48:D48) -> 287620 | G48: 39
A49: B9 | B49: 240200 | C49: 9700 | D49: =B49*0.2 -> 48040 | E49: =SUM(B49:D49) -> 297940 | G49: 40
A50: B11 | B50: 314100 | C50: 9700 | D50: =B50*0.2 -> 62820 | E50: =SUM(B50:D50) -> 386620 | G50: 41
A51: Anwärter m.D. | B51: 20500 | C51: 9700 | D51: =B51*0.2 -> 4100 | E51: =SUM(B51:D51) -> 34300
A52: Anwärter g.D. | B52: 21300 | C52: 9700 | D52: =B52*0.2 -> 4260 | E52: =SUM(B52:D52) -> 35260
A53: Anwärter h.D. (Achtung! Kein Kosten-Betrag vorhanden!)
A57: Regelarbeitszeit % | B57: Arbeitstage | C57: Urlaubstage | D57: Krankheitstage | E57: Feiertage
A58: 5 | B58: 13.05 | C58: 1.5 | D58: 0.5 | E58: 0.5 | F58: 5 | G58: =B58-C58-D58-E58 -> 10.55
A59: 10 | B59: 26.1 | C59: 3 | D59: 1 | E59: 1 | F59: 10 | G59: =B59-C59-D59-E59 -> 21.1
A60: 15 | B60: 39.15 | C60: 4.5 | D60: 1.5 | E60: 1.5 | F60: 15 | G60: =B60-C60-D60-E60 -> 31.65
A61: 20 | B61: 52.2 | C61: 6 | D61: 2 | E61: 2 | F61: 20 | G61: =B61-C61-D61-E61 -> 42.2
A62: 25 | B62: 65.25 | C62: 7.5 | D62: 2.5 | E62: 2.5 | F62: 25 | G62: =B62-C62-D62-E62 -> 52.75
A63: 30 | B63: 78.3 | C63: 9 | D63: 3 | E63: 3 | F63: 30 | G63: =B63-C63-D63-E63 -> 63.3
A64: 35 | B64: 65.25 | C64: 7.5 | D64: 2.5 | E64: 2.5 | F64: 35 | G64: =B64-C64-D64-E64 -> 52.75
A65: 40 | B65: 104.4 | C65: 12 | D65: 4 | E65: 4 | F65: 40 | G65: =B65-C65-D65-E65 -> 84.4
A66: 45 | B66: 117.45 | C66: 13.5 | D66: 4.5 | E66: 4.5 | F66: 45 | G66: =B66-C66-D66-E66 -> 94.95
A67: 50 | B67: 130.5 | C67: 15 | D67: 5 | E67: 5 | F67: 50 | G67: =B67-C67-D67-E67 -> 105.5
A68: 55 | B68: 143.55 | C68: 16.5 | D68: 5.5 | E68: 5.5 | F68: 55 | G68: =B68-C68-D68-E68 -> 116.05
A69: 60 | B69: 156.6 | C69: 18 | D69: 6 | E69: 6 | F69: 60 | G69: =B69-C69-D69-E69 -> 126.6
... A77: 100 | B77: 261 | C77: 30 | D77: 10 | E77: 10 | F77: 100 | G77: =B77-C77-D77-E77 -> 211
A80: 5 | B80: 1.95 | D80: 5 | E80: 0.05
A81: 10 | B81: 3.9 | D81: 10 | E81: 0.1
A82: 15 | B82: 5.85 | D82: 15 | E82: 0.15
A83: 20 | B83: 7.8 | D83: 20 | E83: 0.2
A84: 25 | B84: 9.75 | D84: 25 | E84: 0.25
A85: 30 | B85: 11.7 | D85: 30 | E85: 0.3
A86: 35 | B86: 13.65 | D86: 35 | E86: 0.35
A87: 40 | B87: 15.6 | D87: 40 | E87: 0.4
A88: 45 | B88: 17.55 | D88: 45 | E88: 0.45
A89: 50 | B89: 19.5 | D89: 50 | E89: 0.5
A90: 55 | B90: 21.45 | D90: 55 | E90: 0.55
A91: 60 | B91: 23.4 | D91: 60 | E91: 0.6
... A99: 100 | B99: 39 | D99: 100 | E99: 1

Sheet Dropdown
A1: Screencast
A2: Gespräch
A3: Screenshots
G4: Entgeldgruppen
A5: Kollegen | G5: 1
A6: Jour-Fixe | G6: 2
A7: Wianco | G7: 2Ü
G8: 3
A9: Kreis Bergstrasse | G9: 4
A10: Schwalm-Eder-Kreis | G10: 5
A11: Kreis Waldeck-Frankenberg | G11: 6
G12: 7
A13: Ja | G13: 8
A14: Nein | G14: 9a
G15: 9b
A16: Arbeitsschritt | D16: Arbeitsschritt | G16: 9c
A17: Schnittstelle | D17: Schnittstelle | G17: 10
A18: Dokumentenübertragung | D18: Dokumentenübertragung | G18: 11
D19: Sonstiges | G19: 12
A20: Täglich | G20: 13
A21: Wöchentlich | G21: 14
A22: Monatlich | G22: 15
A23: Jährlich | G23: 15Ü
A25: Sekunden
A26: Minuten
A27: Stunden
A28: Tage
A31: Gering
A32: Mittel
A33: Hoch
